BEGIN:VCALENDAR
VERSION:2.0
PRODID:-//Judoclub Landsmeer - ECPv6.15.20//NONSGML v1.0//EN
CALSCALE:GREGORIAN
METHOD:PUBLISH
X-ORIGINAL-URL:https://www.judoclublandsmeer.nl
X-WR-CALDESC:Evenementen voor Judoclub Landsmeer
REFRESH-INTERVAL;VALUE=DURATION:PT1H
X-Robots-Tag:noindex
X-PUBLISHED-TTL:PT1H
BEGIN:VTIMEZONE
TZID:Europe/Amsterdam
BEGIN:DAYLIGHT
TZOFFSETFROM:+0100
TZOFFSETTO:+0200
TZNAME:CEST
DTSTART:20220327T010000
END:DAYLIGHT
BEGIN:STANDARD
TZOFFSETFROM:+0200
TZOFFSETTO:+0100
TZNAME:CET
DTSTART:20221030T010000
END:STANDARD
BEGIN:DAYLIGHT
TZOFFSETFROM:+0100
TZOFFSETTO:+0200
TZNAME:CEST
DTSTART:20230326T010000
END:DAYLIGHT
BEGIN:STANDARD
TZOFFSETFROM:+0200
TZOFFSETTO:+0100
TZNAME:CET
DTSTART:20231029T010000
END:STANDARD
BEGIN:DAYLIGHT
TZOFFSETFROM:+0100
TZOFFSETTO:+0200
TZNAME:CEST
DTSTART:20240331T010000
END:DAYLIGHT
BEGIN:STANDARD
TZOFFSETFROM:+0200
TZOFFSETTO:+0100
TZNAME:CET
DTSTART:20241027T010000
END:STANDARD
END:VTIMEZONE
BEGIN:VEVENT
DTSTART;VALUE=DATE:20230714
DTEND;VALUE=DATE:20230715
DTSTAMP:20260424T005524
CREATED:20230407T160357Z
LAST-MODIFIED:20230419T090432Z
UID:7095-1689292800-1689379199@www.judoclublandsmeer.nl
SUMMARY:Jeugd judo-examens tot 12 jaar
DESCRIPTION:
URL:https://www.judoclublandsmeer.nl/events/jeugd-judo-examens-tot-12-jaar/
LOCATION:Judoclub Landsmeer\, Sportlaan 25\, Landsmeer\, 1121\, Nederland
CATEGORIES:Evenementen
ORGANIZER;CN="Judoclub Landsmeer":MAILTO:info@judoclublandsmeer.nl
END:VEVENT
BEGIN:VEVENT
DTSTART;VALUE=DATE:20230712
DTEND;VALUE=DATE:20230713
DTSTAMP:20260424T005524
CREATED:20230407T160225Z
LAST-MODIFIED:20230407T160323Z
UID:7092-1689120000-1689206399@www.judoclublandsmeer.nl
SUMMARY:Jeugd judo-examens tot 12 jaar
DESCRIPTION:
URL:https://www.judoclublandsmeer.nl/events/jeugd-judoexamens-tot-12-jaar/
LOCATION:Judoclub Landsmeer\, Sportlaan 25\, Landsmeer\, 1121\, Nederland
CATEGORIES:Evenementen
ORGANIZER;CN="Judoclub Landsmeer":MAILTO:info@judoclublandsmeer.nl
END:VEVENT
BEGIN:VEVENT
DTSTART;TZID=Europe/Amsterdam:20230711T180000
DTEND;TZID=Europe/Amsterdam:20230711T210000
DTSTAMP:20260424T005524
CREATED:20230613T163743Z
LAST-MODIFIED:20230613T163743Z
UID:7329-1689098400-1689109200@www.judoclublandsmeer.nl
SUMMARY:Geen les
DESCRIPTION:
URL:https://www.judoclublandsmeer.nl/events/geen-les/
LOCATION:Judoclub Landsmeer\, Sportlaan 25\, Landsmeer\, 1121\, Nederland
CATEGORIES:Evenementen
ORGANIZER;CN="Judoclub Landsmeer":MAILTO:info@judoclublandsmeer.nl
END:VEVENT
END:VCALENDAR